BEGIN:VCALENDAR
VERSION:2.0
PRODID:-//シーハットおおむら 公式ホームページ - ECPv6.15.20//NONSGML v1.0//EN
CALSCALE:GREGORIAN
METHOD:PUBLISH
X-ORIGINAL-URL:https://seahat.jp
X-WR-CALDESC:シーハットおおむら 公式ホームページ のイベント
REFRESH-INTERVAL;VALUE=DURATION:PT1H
X-Robots-Tag:noindex
X-PUBLISHED-TTL:PT1H
BEGIN:VTIMEZONE
TZID:UTC
BEGIN:STANDARD
TZOFFSETFROM:+0000
TZOFFSETTO:+0000
TZNAME:UTC
DTSTART:20250101T000000
END:STANDARD
END:VTIMEZONE
BEGIN:VTIMEZONE
TZID:Asia/Tokyo
BEGIN:STANDARD
TZOFFSETFROM:+0900
TZOFFSETTO:+0900
TZNAME:JST
DTSTART:20250101T000000
END:STANDARD
END:VTIMEZONE
BEGIN:VEVENT
DTSTART;TZID=UTC:20260423T110000
DTEND;TZID=UTC:20260423T160000
DTSTAMP:20260421T015236
CREATED:20260304T164736Z
LAST-MODIFIED:20260409T082459Z
UID:3322-1776942000-1776960000@seahat.jp
SUMMARY:104歳、哲代さんのひとり暮らし
DESCRIPTION:日時\n８年４月２３日（木曜日）\n➀１１：００　➁１４：００\n開場は上演時間30分前、上映時間94分\n\n\n会場\nシーハットおおむらさくらホール\n\n\nチケット\n【全席自由席】\n前売り1\,200円、シーハット会員1\,000円\n※当日各200円増\n※小中高生800円、シーハット会員700円(当日のみ販売)\n\n\n発売日\n発売中\n\n\nプレイガイド\nシーハットおおむら(9：00～17：00)\nローソンチケット（Lコード：83938）\n前売券電話予約(長崎県映画センター)\n095-824-2974(平日10時～18時)\n\n\n主催\n（一財）大村市文化・スポーツ振興財団\n\n\n共催\n長崎県映画センター\n\n\n後援\n\n\n\nチラシ\nPDFファイル
URL:https://seahat.jp/event/104%e6%ad%b3%e3%80%81%e5%93%b2%e4%bb%a3%e3%81%95%e3%82%93%e3%81%ae%e3%81%b2%e3%81%a8%e3%82%8a%e6%9a%ae%e3%82%89%e3%81%97/
CATEGORIES:CULTURE
ATTACH;FMTTYPE=image/jpeg:https://seahat.jp/wp-seahat/wp-content/uploads/2026/03/104flyerfront-thumb-autox800-1107.jpg
END:VEVENT
BEGIN:VEVENT
DTSTART;TZID=Asia/Tokyo:20260516T140000
DTEND;TZID=Asia/Tokyo:20260516T160000
DTSTAMP:20260421T015236
CREATED:20260331T162918Z
LAST-MODIFIED:20260409T082459Z
UID:4495-1778940000-1778947200@seahat.jp
SUMMARY:長崎OMURA室内合奏団第41回大村定期演奏会
DESCRIPTION:　 \n\n  \n日時\n2026年5月16日(土)14:00開演（13:30開場） \n  \n\n\n会場\nメモリード・シーハットおおむら・さくらホール \n  \n\n\n出演\n松原勝也（コンサートマスター）\n長崎OMURA室内合奏団 \n  \n\n\nプログラム\nシューベルト／イタリア風序曲第1番 ニ長調 D 590\nシューベルト／交響曲第5番 変ロ長調 D 485\nベートーヴェン／交響曲第5番 ハ短調 Op.67『運命』 \n  \n\n\nチケット\n【全席指定】大人4\,000円、学生1\,000円\n※未就学児入場不可\n※当日各500円増 \nチケットについて\n  \n\n\n発売日\n会員先行　3月17日(火)\n一般発売　3月24日(火) \n  \n\n\nプレイガイド\nメモリード・シーハットおおむら、clips on、絃洋会楽器店、\nくさの書店チトセピア店、チケットぴあ（Pコード321‐170） \n  \n\n\n主催\n認定特定非営利活動法人長崎OMURA室内合奏団 \n  \n\n\n共催\n一般財団法人大村市文化・スポーツ振興財団 \n  \n\n\n後援\n長崎県、大村市教育委員会、長崎県音楽連盟
URL:https://seahat.jp/event/%e9%95%b7%e5%b4%8eomura%e5%ae%a4%e5%86%85%e5%90%88%e5%a5%8f%e5%9b%a3%e7%ac%ac41%e5%9b%9e%e5%a4%a7%e6%9d%91%e5%ae%9a%e6%9c%9f%e6%bc%94%e5%a5%8f%e4%bc%9a/
CATEGORIES:CULTURE,共催
ATTACH;FMTTYPE=image/jpeg:https://seahat.jp/wp-seahat/wp-content/uploads/2026/03/26.5月定期チラシomt.jpg
END:VEVENT
BEGIN:VEVENT
DTSTART;VALUE=DATE:20260531
DTEND;VALUE=DATE:20260601
DTSTAMP:20260421T015236
CREATED:20260304T173824Z
LAST-MODIFIED:20260409T082459Z
UID:2135-1780185600-1780271999@seahat.jp
SUMMARY:宮沢和史「あなたの町で歌います♪ プロジェクト」長崎県大村市シーハットおおむらコンサート
DESCRIPTION:  \n「島唄」で有名な、宮沢和史（元THE BOOM ボーカリスト）が全国各地を訪れ、その土地の空気や人々とのつながりを大切にしながら歌を届けるコンサート。 \n宮沢和史 オフィシャルウェブ \n  \n  \n\n\n\n日時\n2026年5月31日(日)\n16:00開演(15:30開場)\n\n\n会場\nシーハットおおむら・さくらホール\n\n\nチケット\n【全席指定】\n一般6\,500円、会員5\,800円\n※未就学児入場不可\n\n\n発売日\n会員　3月6日(金)10:00～\n一般　3月13日(金)10:00～\n\n\nプレイガイド\nシーハットおおむら、チケットぴあ、ローソンチケット、イープラス\n\n\n主催\n（一財）大村市文化・スポーツ振興財団／「あなたの町で歌います♪ プロジェクト」大村支部\n\n\n共催\n\n\n\n後援\n\n\n\nチラシ\n\n\n\n\n 
URL:https://seahat.jp/event/%e5%ae%ae%e6%b2%a2%e5%92%8c%e5%8f%b2%e3%80%8c%e3%81%82%e3%81%aa%e3%81%9f%e3%81%ae%e7%94%ba%e3%81%a7%e6%ad%8c%e3%81%84%e3%81%be%e3%81%99%e2%99%aa-%e3%83%97%e3%83%ad%e3%82%b8%e3%82%a7%e3%82%af%e3%83%88/
CATEGORIES:CULTURE,共催
ATTACH;FMTTYPE=image/png:https://seahat.jp/wp-seahat/wp-content/uploads/2026/03/MIYAZAWA-KAZUFUMI-thumb-565x800-1091.png
END:VEVENT
BEGIN:VEVENT
DTSTART;VALUE=DATE:20260606
DTEND;VALUE=DATE:20260607
DTSTAMP:20260421T015236
CREATED:20260401T092548Z
LAST-MODIFIED:20260409T082459Z
UID:4544-1780704000-1780790399@seahat.jp
SUMMARY:劇場フロントスタッフ講座
DESCRIPTION:  \n劇場のフロントスタッフを体験してみませんか？\n  \nコンサート当日のチケットもぎりや客席案内など、来場者を支える劇場フロントスタッフのための講座を開催します。講師を招き、基礎知識から実務のコツまでを学びます。 \n  \n\n日時\n2026年6月6日（土） \n①初心者コース（90分）　10:00～11:30 \n②経験者コース（120分）　13:30～15:30 \n  \n\n会場\nメモリード・シーハットおおむら・さくらホール \n  \n\n講師\n渡部 久美（わたべ くみ） \nこれまでに日本フィルハーモニー交響楽団にて主にチケットセンター業務を担当。その後、サントリーパブリシティサービス(株)にてホール案内マネージャーとして都内大型ホールや兵庫県立芸術文化センターを担当。指定管理業務では鎌倉芸術館及び大和市文化創造拠点シリウス内、やまと芸術ホールにて副館長業務に携わる。2014年より公益社団法人全国公立文化施設協会 派遣支援員として全国のホールにて接遇研修、ホール案内業務研修を実施。 \n  \n\n定員\n各コース　20名　※定員になり次第締め切ります。 \n  \n\n参加費\n各コース　500円 \n  \n\n申込方法\n以下、お申し込みフォームよりお申し込みください。 \nhttps://forms.gle/E3ehMNTAWbpyWCTU9 \n  \n\n申込締切\n5月29日（金） \n  \n\n主催\n一般財団法人大村市文化・スポーツ振興財団 \n  \n\n後援\n大村市教育委員会 \n  \n\nチラシ\nPDF
URL:https://seahat.jp/event/%e5%8a%87%e5%a0%b4%e3%83%95%e3%83%ad%e3%83%b3%e3%83%88%e3%82%b9%e3%82%bf%e3%83%83%e3%83%95%e8%ac%9b%e5%ba%a7/
CATEGORIES:CULTURE,主催
ATTACH;FMTTYPE=image/png:https://seahat.jp/wp-seahat/wp-content/uploads/2026/04/画像1.png
END:VEVENT
END:VCALENDAR